BEGIN:VCALENDAR
VERSION:2.0
PRODID:-//Westcoast Women in Engineering, Science and Technology - ECPv6.15.20//NONSGML v1.0//EN
CALSCALE:GREGORIAN
METHOD:PUBLISH
X-WR-CALNAME:Westcoast Women in Engineering, Science and Technology
X-ORIGINAL-URL:https://wwest-cwse.ca
X-WR-CALDESC:Events for Westcoast Women in Engineering, Science and Technology
REFRESH-INTERVAL;VALUE=DURATION:PT1H
X-Robots-Tag:noindex
X-PUBLISHED-TTL:PT1H
BEGIN:VTIMEZONE
TZID:America/Vancouver
BEGIN:DAYLIGHT
TZOFFSETFROM:-0800
TZOFFSETTO:-0700
TZNAME:PDT
DTSTART:20250309T100000
END:DAYLIGHT
BEGIN:STANDARD
TZOFFSETFROM:-0700
TZOFFSETTO:-0800
TZNAME:PST
DTSTART:20251102T090000
END:STANDARD
BEGIN:DAYLIGHT
TZOFFSETFROM:-0800
TZOFFSETTO:-0700
TZNAME:PDT
DTSTART:20260308T100000
END:DAYLIGHT
BEGIN:STANDARD
TZOFFSETFROM:-0700
TZOFFSETTO:-0800
TZNAME:PST
DTSTART:20261101T090000
END:STANDARD
BEGIN:DAYLIGHT
TZOFFSETFROM:-0800
TZOFFSETTO:-0700
TZNAME:PDT
DTSTART:20270314T100000
END:DAYLIGHT
BEGIN:STANDARD
TZOFFSETFROM:-0700
TZOFFSETTO:-0800
TZNAME:PST
DTSTART:20271107T090000
END:STANDARD
END:VTIMEZONE
BEGIN:VEVENT
DTSTART;TZID=America/Vancouver:20260727T083000
DTEND;TZID=America/Vancouver:20260731T153000
DTSTAMP:20260423T030529
CREATED:20260416T205902Z
LAST-MODIFIED:20260421T162314Z
UID:16537-1785141000-1785511800@wwest-cwse.ca
SUMMARY:WWEST STEMletics Summer Camp
DESCRIPTION:Each day\, the STEM behind sports and physical activity will be examined and explored to enhance STEM (science\, technology\, engineering\, and math)\, knowledge and communication. Unique activities and connections to a variety of sports\, are offered each day of the week\, and will not be repeated. Participants should come prepared to participate in hands-on learning experiments\, and physical activity opportunities. \n\nOnly 30 spaces are available for each day of this camp. Register daily at $65/day/individual and choose your schedule.\nParticipants will be required to bring appropriate outdoor clothing for the weather\, as well as their own nut-free snacks and lunch.
URL:https://wwest-cwse.ca/event/wwest-stemletics-summer-camp/
LOCATION:UNISUS International School\, Summerland\, BC\, 7808 Pierre Drive\, Summerland\, BC\, Canada
CATEGORIES:Youth Camps
ATTACH;FMTTYPE=image/jpeg:https://wwest-cwse.ca/wp-content/uploads/youth-camps-2.jpg
END:VEVENT
END:VCALENDAR