BEGIN:VCALENDAR
VERSION:2.0
PRODID:-//Westcoast Women in Engineering, Science and Technology - ECPv6.15.20//NONSGML v1.0//EN
CALSCALE:GREGORIAN
METHOD:PUBLISH
X-WR-CALNAME:Westcoast Women in Engineering, Science and Technology
X-ORIGINAL-URL:https://wwest-cwse.ca
X-WR-CALDESC:Events for Westcoast Women in Engineering, Science and Technology
REFRESH-INTERVAL;VALUE=DURATION:PT1H
X-Robots-Tag:noindex
X-PUBLISHED-TTL:PT1H
BEGIN:VTIMEZONE
TZID:America/Vancouver
BEGIN:DAYLIGHT
TZOFFSETFROM:-0800
TZOFFSETTO:-0700
TZNAME:PDT
DTSTART:20250309T100000
END:DAYLIGHT
BEGIN:STANDARD
TZOFFSETFROM:-0700
TZOFFSETTO:-0800
TZNAME:PST
DTSTART:20251102T090000
END:STANDARD
BEGIN:DAYLIGHT
TZOFFSETFROM:-0800
TZOFFSETTO:-0700
TZNAME:PDT
DTSTART:20260308T100000
END:DAYLIGHT
BEGIN:STANDARD
TZOFFSETFROM:-0700
TZOFFSETTO:-0800
TZNAME:PST
DTSTART:20261101T090000
END:STANDARD
BEGIN:DAYLIGHT
TZOFFSETFROM:-0800
TZOFFSETTO:-0700
TZNAME:PDT
DTSTART:20270314T100000
END:DAYLIGHT
BEGIN:STANDARD
TZOFFSETFROM:-0700
TZOFFSETTO:-0800
TZNAME:PST
DTSTART:20271107T090000
END:STANDARD
END:VTIMEZONE
BEGIN:VEVENT
DTSTART;TZID=America/Vancouver:20260720T083000
DTEND;TZID=America/Vancouver:20260724T153000
DTSTAMP:20260423T032031
CREATED:20260416T205614Z
LAST-MODIFIED:20260421T162345Z
UID:16534-1784536200-1784907000@wwest-cwse.ca
SUMMARY:WWEST STEM Busters Summer Camp
DESCRIPTION:Each day\, a new series of science-based “myths” will be examined and explored to enhance STEM (science\, technology\, engineering\, and math)\, knowledge and communication. Participants will engage in hands-on learning\, and physical activity breaks. Come prepared for fun and learning wrapped into one! \n\nOnly 30 spaces are available for each day of this camp. Register daily at $65/day/individual and choose your schedule.\nParticipants will be required to bring appropriate outdoor clothing for the weather\, as well as their own nut-free snacks and lunch.
URL:https://wwest-cwse.ca/event/wwest-stem-busters-summer-camp/
LOCATION:UNISUS International School\, Summerland\, BC\, 7808 Pierre Drive\, Summerland\, BC\, Canada
CATEGORIES:Youth Camps
ATTACH;FMTTYPE=image/jpeg:https://wwest-cwse.ca/wp-content/uploads/Youth_camp_tallest-tower.jpg
END:VEVENT
END:VCALENDAR