BEGIN:VCALENDAR
VERSION:2.0
PRODID:-//Westcoast Women in Engineering, Science and Technology - ECPv6.15.20//NONSGML v1.0//EN
CALSCALE:GREGORIAN
METHOD:PUBLISH
X-WR-CALNAME:Westcoast Women in Engineering, Science and Technology
X-ORIGINAL-URL:https://wwest-cwse.ca
X-WR-CALDESC:Events for Westcoast Women in Engineering, Science and Technology
REFRESH-INTERVAL;VALUE=DURATION:PT1H
X-Robots-Tag:noindex
X-PUBLISHED-TTL:PT1H
BEGIN:VTIMEZONE
TZID:America/Vancouver
BEGIN:DAYLIGHT
TZOFFSETFROM:-0800
TZOFFSETTO:-0700
TZNAME:PDT
DTSTART:20250309T100000
END:DAYLIGHT
BEGIN:STANDARD
TZOFFSETFROM:-0700
TZOFFSETTO:-0800
TZNAME:PST
DTSTART:20251102T090000
END:STANDARD
BEGIN:DAYLIGHT
TZOFFSETFROM:-0800
TZOFFSETTO:-0700
TZNAME:PDT
DTSTART:20260308T100000
END:DAYLIGHT
BEGIN:STANDARD
TZOFFSETFROM:-0700
TZOFFSETTO:-0800
TZNAME:PST
DTSTART:20261101T090000
END:STANDARD
BEGIN:DAYLIGHT
TZOFFSETFROM:-0800
TZOFFSETTO:-0700
TZNAME:PDT
DTSTART:20270314T100000
END:DAYLIGHT
BEGIN:STANDARD
TZOFFSETFROM:-0700
TZOFFSETTO:-0800
TZNAME:PST
DTSTART:20271107T090000
END:STANDARD
END:VTIMEZONE
BEGIN:VEVENT
DTSTART;TZID=America/Vancouver:20260515T083000
DTEND;TZID=America/Vancouver:20260515T153000
DTSTAMP:20260420T172908
CREATED:20260420T195359Z
LAST-MODIFIED:20260420T195359Z
UID:16550-1778833800-1778859000@wwest-cwse.ca
SUMMARY:WWEST Pro-D STEM Camp
DESCRIPTION:While teachers in SD22 are busy learning\, join WWEST at Okanagan College in Vernon for a fun-filled day of STEM adventures!  For more details\, click here to be redirected to our camp registration site: Pro-D STEM Vernon
URL:https://wwest-cwse.ca/event/wwest-pro-d-stem-camp/
LOCATION:Okanagan College\, Vernon
CATEGORIES:Intergenerational STEM Event,Youth Camps
END:VEVENT
END:VCALENDAR