BEGIN:VCALENDAR
VERSION:2.0
PRODID:-//Westcoast Women in Engineering, Science and Technology - ECPv6.15.20//NONSGML v1.0//EN
CALSCALE:GREGORIAN
METHOD:PUBLISH
X-WR-CALNAME:Westcoast Women in Engineering, Science and Technology
X-ORIGINAL-URL:https://wwest-cwse.ca
X-WR-CALDESC:Events for Westcoast Women in Engineering, Science and Technology
REFRESH-INTERVAL;VALUE=DURATION:PT1H
X-Robots-Tag:noindex
X-PUBLISHED-TTL:PT1H
BEGIN:VTIMEZONE
TZID:America/Vancouver
BEGIN:DAYLIGHT
TZOFFSETFROM:-0800
TZOFFSETTO:-0700
TZNAME:PDT
DTSTART:20250309T100000
END:DAYLIGHT
BEGIN:STANDARD
TZOFFSETFROM:-0700
TZOFFSETTO:-0800
TZNAME:PST
DTSTART:20251102T090000
END:STANDARD
BEGIN:DAYLIGHT
TZOFFSETFROM:-0800
TZOFFSETTO:-0700
TZNAME:PDT
DTSTART:20260308T100000
END:DAYLIGHT
BEGIN:STANDARD
TZOFFSETFROM:-0700
TZOFFSETTO:-0800
TZNAME:PST
DTSTART:20261101T090000
END:STANDARD
BEGIN:DAYLIGHT
TZOFFSETFROM:-0800
TZOFFSETTO:-0700
TZNAME:PDT
DTSTART:20270314T100000
END:DAYLIGHT
BEGIN:STANDARD
TZOFFSETFROM:-0700
TZOFFSETTO:-0800
TZNAME:PST
DTSTART:20271107T090000
END:STANDARD
END:VTIMEZONE
BEGIN:VEVENT
DTSTART;TZID=America/Vancouver:20260508T103000
DTEND;TZID=America/Vancouver:20260508T130000
DTSTAMP:20260420T213911
CREATED:20260421T011118Z
LAST-MODIFIED:20260421T011118Z
UID:16568-1778236200-1778245200@wwest-cwse.ca
SUMMARY:Whitehorse STEM Drop In
DESCRIPTION:This drop-in event is for children\, youth and their caregivers (friends\, neighbour\, family) to enhance communication\, spark curiosity and participate in STEM exploration activities. Children and youth must be accompanied by an adult\, who is invited and encouraged to engage in the activities. \nCome and go as your schedule allows.  Free and All ages Welcome. \nThis is an Intergenerational STEM Event by WWEST. \nLocation: Whitehorse Public Library Whitehorse YT\nDate: Friday\, May 8\, 2026\nTime: 10:30am to 1:00pm \nNo cost activities include: \n\nEngineering things that fly\nCatapult creations\nNeuron Beading\nTinkering with Technology\n\n 
URL:https://wwest-cwse.ca/event/whitehorse-stem-drop-in/
LOCATION:Whitehorse Public Library\, 1171 Front Street\, Whitehorse\, YT\, Y1A 2C6\, Canada
CATEGORIES:Intergenerational STEM Event
ATTACH;FMTTYPE=image/jpeg:https://wwest-cwse.ca/wp-content/uploads/Youth_group_intergen_tech.jpg
END:VEVENT
END:VCALENDAR