BEGIN:VCALENDAR
VERSION:2.0
PRODID:-//Westcoast Women in Engineering, Science and Technology - ECPv6.15.20//NONSGML v1.0//EN
CALSCALE:GREGORIAN
METHOD:PUBLISH
X-WR-CALNAME:Westcoast Women in Engineering, Science and Technology
X-ORIGINAL-URL:https://wwest-cwse.ca
X-WR-CALDESC:Events for Westcoast Women in Engineering, Science and Technology
REFRESH-INTERVAL;VALUE=DURATION:PT1H
X-Robots-Tag:noindex
X-PUBLISHED-TTL:PT1H
BEGIN:VTIMEZONE
TZID:America/Vancouver
BEGIN:DAYLIGHT
TZOFFSETFROM:-0800
TZOFFSETTO:-0700
TZNAME:PDT
DTSTART:20250309T100000
END:DAYLIGHT
BEGIN:STANDARD
TZOFFSETFROM:-0700
TZOFFSETTO:-0800
TZNAME:PST
DTSTART:20251102T090000
END:STANDARD
BEGIN:DAYLIGHT
TZOFFSETFROM:-0800
TZOFFSETTO:-0700
TZNAME:PDT
DTSTART:20260308T100000
END:DAYLIGHT
BEGIN:STANDARD
TZOFFSETFROM:-0700
TZOFFSETTO:-0800
TZNAME:PST
DTSTART:20261101T090000
END:STANDARD
BEGIN:DAYLIGHT
TZOFFSETFROM:-0800
TZOFFSETTO:-0700
TZNAME:PDT
DTSTART:20270314T100000
END:DAYLIGHT
BEGIN:STANDARD
TZOFFSETFROM:-0700
TZOFFSETTO:-0800
TZNAME:PST
DTSTART:20271107T090000
END:STANDARD
END:VTIMEZONE
BEGIN:VEVENT
DTSTART;TZID=America/Vancouver:20260428T154500
DTEND;TZID=America/Vancouver:20260428T180000
DTSTAMP:20260420T213739
CREATED:20260421T012348Z
LAST-MODIFIED:20260421T012348Z
UID:16574-1777391100-1777399200@wwest-cwse.ca
SUMMARY:Tuktoyaktuk Stem Event
DESCRIPTION:This drop-in event is open to any youth and their caregivers (friends\, neighbour\, family) to enhance communication\, spark curiosity and participate in STEM exploration activities. \nCome and go as your schedule allows. \nThis is an Intergenerational STEM Event by WWEST. \nLocation: Mangilaluk School Gym Tuktoyaktuk\, NWT\nDate: Tuesday\, April 28\, 2026\nTime: 3:45pm to 6:00pm \nNo cost activities include: \n\nEngineering things that fly\nCatapult creations\nNeuron Beading\nTinkering with Technology
URL:https://wwest-cwse.ca/event/tuktoyaktuk-stem-event/
LOCATION:Mangilaluk School\, 477 Mangilaluk Lp\, Tuktoyaktuk\, NWT\, X0E 0A1\, Canada
CATEGORIES:Intergenerational STEM Event
ATTACH;FMTTYPE=image/jpeg:https://wwest-cwse.ca/wp-content/uploads/Youth_group_intergen_tech.jpg
END:VEVENT
END:VCALENDAR