BEGIN:VCALENDAR
VERSION:2.0
PRODID:-//Westcoast Women in Engineering, Science and Technology - ECPv6.15.20//NONSGML v1.0//EN
CALSCALE:GREGORIAN
METHOD:PUBLISH
X-WR-CALNAME:Westcoast Women in Engineering, Science and Technology
X-ORIGINAL-URL:https://wwest-cwse.ca
X-WR-CALDESC:Events for Westcoast Women in Engineering, Science and Technology
REFRESH-INTERVAL;VALUE=DURATION:PT1H
X-Robots-Tag:noindex
X-PUBLISHED-TTL:PT1H
BEGIN:VTIMEZONE
TZID:America/Vancouver
BEGIN:DAYLIGHT
TZOFFSETFROM:-0800
TZOFFSETTO:-0700
TZNAME:PDT
DTSTART:20250309T100000
END:DAYLIGHT
BEGIN:STANDARD
TZOFFSETFROM:-0700
TZOFFSETTO:-0800
TZNAME:PST
DTSTART:20251102T090000
END:STANDARD
BEGIN:DAYLIGHT
TZOFFSETFROM:-0800
TZOFFSETTO:-0700
TZNAME:PDT
DTSTART:20260308T100000
END:DAYLIGHT
BEGIN:STANDARD
TZOFFSETFROM:-0700
TZOFFSETTO:-0800
TZNAME:PST
DTSTART:20261101T090000
END:STANDARD
BEGIN:DAYLIGHT
TZOFFSETFROM:-0800
TZOFFSETTO:-0700
TZNAME:PDT
DTSTART:20270314T100000
END:DAYLIGHT
BEGIN:STANDARD
TZOFFSETFROM:-0700
TZOFFSETTO:-0800
TZNAME:PST
DTSTART:20271107T090000
END:STANDARD
END:VTIMEZONE
BEGIN:VEVENT
DTSTART;TZID=America/Vancouver:20260521T160000
DTEND;TZID=America/Vancouver:20260521T190000
DTSTAMP:20260423T182111
CREATED:20260423T204927Z
LAST-MODIFIED:20260423T205303Z
UID:16643-1779379200-1779390000@wwest-cwse.ca
SUMMARY:Peter Greer PAC Family Fun Fair
DESCRIPTION:WWEST looks forward to supporting the Peter Greer Parent Advisory Council (PAC) in hosting a STEM station at the upcoming Family Fun Fair!  Contact Peter Greer PAC for details!
URL:https://wwest-cwse.ca/event/peter-greer-pac-family-fun-fest/
LOCATION:Peter Greer\, Lake Country
CATEGORIES:Intergenerational STEM Event,Partner STEM Outreach Event
END:VEVENT
END:VCALENDAR